BEGIN:VCALENDAR
VERSION:2.0
PRODID:-//Contratero//ES
CALSCALE:GREGORIAN
METHOD:PUBLISH
BEGIN:VEVENT
UID:S-17/22@contratero.es
DTSTAMP:20260420T044319Z
DTSTART:20220418T235959
DTEND:20220419T005959
SUMMARY:Cierre: Arrendamiento de licencias de dos productos softwa
DESCRIPTION:Arrendamiento de licencias de dos productos software\, de uso ampliamente extendido en la Universidad Autónoma de Madrid: Microsoft 365 y Adobe Acrobat Pro DC y Creative Cloud. Ambos arrendamientos se ...\\n\\nOrganismo: Rectorado de la Universidad Autónoma de Madrid\\n\\nVer en Contratero: https://contratero.es/contracts/S-17/22
URL:https://contratero.es/contracts/S-17/22
STATUS:CONFIRMED
BEGIN:VALARM
TRIGGER:-P1D
ACTION:DISPLAY
DESCRIPTION:Recordatorio: Arrendamiento de licencias de 
END:VALARM
END:VEVENT
END:VCALENDAR