BEGIN:VCALENDAR
VERSION:2.0
PRODID:-//Contratero//ES
CALSCALE:GREGORIAN
METHOD:PUBLISH
BEGIN:VEVENT
UID:S-20010017@contratero.es
DTSTAMP:20260425T224600Z
DTSTART:20200910T235959
DTEND:20200911T005959
SUMMARY:Cierre: Servicios de gestión de registro de dominios.
DESCRIPTION:Servicios de gestión de registro de dominios.\\n\\nOrganismo: Presidencia Ejecutiva de la Agencia E.F.E. S.A.U.\, S.M.E.\\n\\nVer en Contratero: https://contratero.es/contracts/S-20010017
URL:https://contratero.es/contracts/S-20010017
STATUS:CONFIRMED
BEGIN:VALARM
TRIGGER:-P1D
ACTION:DISPLAY
DESCRIPTION:Recordatorio: Servicios de gestión de regist
END:VALARM
END:VEVENT
END:VCALENDAR