BEGIN:VCALENDAR
VERSION:2.0
PRODID:-//Contratero//ES
CALSCALE:GREGORIAN
METHOD:PUBLISH
BEGIN:VEVENT
UID:S-25020034@contratero.es
DTSTAMP:20260425T213414Z
DTSTART:20250616T235959
DTEND:20250617T005959
SUMMARY:Cierre: Servicio de registro de jornada.
DESCRIPTION:Servicio de registro de jornada.\\n\\nOrganismo: Presidencia Ejecutiva de la Agencia E.F.E. S.A.U.\, S.M.E.\\n\\nVer en Contratero: https://contratero.es/contracts/S-25020034
URL:https://contratero.es/contracts/S-25020034
STATUS:CONFIRMED
BEGIN:VALARM
TRIGGER:-P1D
ACTION:DISPLAY
DESCRIPTION:Recordatorio: Servicio de registro de jornad
END:VALARM
END:VEVENT
END:VCALENDAR