BEGIN:VCALENDAR
VERSION:2.0
PRODID:-//Contratero//ES
CALSCALE:GREGORIAN
METHOD:PUBLISH
BEGIN:VEVENT
UID:S-NS/2025/000608@contratero.es
DTSTAMP:20260419T233619Z
DTSTART:20251113T235959
DTEND:20251114T005959
SUMMARY:Cierre: Suministro del Sistema Integrado de Gestión WorldS
DESCRIPTION:Suministro del Sistema Integrado de Gestión WorldShare (WMS) para la Biblioteca de la Universidad Complutense de Madrid\\n\\nOrganismo: Rectorado de la Universidad Complutense de Madrid\\n\\nVer en Contratero: https://contratero.es/contracts/S-NS/2025/000608
URL:https://contratero.es/contracts/S-NS/2025/000608
STATUS:CONFIRMED
BEGIN:VALARM
TRIGGER:-P1D
ACTION:DISPLAY
DESCRIPTION:Recordatorio: Suministro del Sistema Integra
END:VALARM
END:VEVENT
END:VCALENDAR