BEGIN:VCALENDAR
VERSION:2.0
PRODID:-//Contratero//ES
CALSCALE:GREGORIAN
METHOD:PUBLISH
BEGIN:VEVENT
UID:S.02.2021@contratero.es
DTSTAMP:20260424T074138Z
DTSTART:20211216T235959
DTEND:20211217T005959
SUMMARY:Cierre: Servicios de Delegado de Protección de Datos\, de c
DESCRIPTION:Servicios de Delegado de Protección de Datos\, de consultoría\, asesoramiento y asistencia técnica y jurídica en materia de protección de datos personales y garantía de los derechos digitales\\n\\nOrganismo: Alcaldía del Ayuntamiento de Cadalso de los Vidrios\\n\\nVer en Contratero: https://contratero.es/contracts/S.02.2021
URL:https://contratero.es/contracts/S.02.2021
STATUS:CONFIRMED
BEGIN:VALARM
TRIGGER:-P1D
ACTION:DISPLAY
DESCRIPTION:Recordatorio: Servicios de Delegado de Prote
END:VALARM
END:VEVENT
END:VCALENDAR