BEGIN:VCALENDAR
VERSION:2.0
PRODID:-//Contratero//ES
CALSCALE:GREGORIAN
METHOD:PUBLISH
BEGIN:VEVENT
UID:S/02148/2017@contratero.es
DTSTAMP:20260423T113439Z
DTSTART:20171211T235959
DTEND:20171212T005959
SUMMARY:Cierre: Evolución y Mantenimiento de Aplicaciones (EMA18)
DESCRIPTION:Evolución y Mantenimiento de Aplicaciones (EMA18)\\n\\nOrganismo: Dirección de Compras de la Corporación de Radio y Televisión Española S.A.\\n\\nVer en Contratero: https://contratero.es/contracts/S/02148/2017
URL:https://contratero.es/contracts/S/02148/2017
STATUS:CONFIRMED
BEGIN:VALARM
TRIGGER:-P1D
ACTION:DISPLAY
DESCRIPTION:Recordatorio: Evolución y Mantenimiento de A
END:VALARM
END:VEVENT
END:VCALENDAR