BEGIN:VCALENDAR
VERSION:2.0
PRODID:-//Contratero//ES
CALSCALE:GREGORIAN
METHOD:PUBLISH
BEGIN:VEVENT
UID:S/05896/2018@contratero.es
DTSTAMP:20260424T213104Z
DTSTART:20180917T235959
DTEND:20180918T005959
SUMMARY:Cierre: Acceso a Internet y seguridad del Sistema de Contr
DESCRIPTION:Acceso a Internet y seguridad del Sistema de Contribución\\n\\nOrganismo: Dirección de Compras de la Corporación de Radio y Televisión Española S.A.\\n\\nVer en Contratero: https://contratero.es/contracts/S/05896/2018
URL:https://contratero.es/contracts/S/05896/2018
STATUS:CONFIRMED
BEGIN:VALARM
TRIGGER:-P1D
ACTION:DISPLAY
DESCRIPTION:Recordatorio: Acceso a Internet y seguridad 
END:VALARM
END:VEVENT
END:VCALENDAR