BEGIN:VCALENDAR
VERSION:2.0
PRODID:-//Contratero//ES
CALSCALE:GREGORIAN
METHOD:PUBLISH
BEGIN:VEVENT
UID:S/100.1/2023@contratero.es
DTSTAMP:20260422T114603Z
DTSTART:20231025T235959
DTEND:20231026T005959
SUMMARY:Cierre: Contrato Ordinario de Servicios de Mantenimiento d
DESCRIPTION:Contrato Ordinario de Servicios de Mantenimiento del "Theme Wordpress"\, desarrollado a medida para el Portal Web de Turismo del Ayuntamiento de Puerto Real\, y 36 Horas Técnicas Anuales para la Program...\\n\\nOrganismo: Alcaldía del Ayuntamiento de Puerto Real\\n\\nVer en Contratero: https://contratero.es/contracts/S/100.1/2023
URL:https://contratero.es/contracts/S/100.1/2023
STATUS:CONFIRMED
BEGIN:VALARM
TRIGGER:-P1D
ACTION:DISPLAY
DESCRIPTION:Recordatorio: Contrato Ordinario de Servicio
END:VALARM
END:VEVENT
END:VCALENDAR