BEGIN:VCALENDAR
VERSION:2.0
PRODID:-//Contratero//ES
CALSCALE:GREGORIAN
METHOD:PUBLISH
BEGIN:VEVENT
UID:S6S-253/2024@contratero.es
DTSTAMP:20260423T054131Z
DTSTART:20240916T235959
DTEND:20240917T005959
SUMMARY:Cierre: Suministro de una plataforma de gestión de reserva
DESCRIPTION:Suministro de una plataforma de gestión de reservas y alquileres de instalaciones deportivas de la Diputación de Alicante\\n\\nOrganismo: Presidencia de la Diputación Provincial de Alicante\\n\\nVer en Contratero: https://contratero.es/contracts/S6S-253/2024
URL:https://contratero.es/contracts/S6S-253/2024
STATUS:CONFIRMED
BEGIN:VALARM
TRIGGER:-P1D
ACTION:DISPLAY
DESCRIPTION:Recordatorio: Suministro de una plataforma d
END:VALARM
END:VEVENT
END:VCALENDAR