BEGIN:VCALENDAR
VERSION:2.0
PRODID:-//Contratero//ES
CALSCALE:GREGORIAN
METHOD:PUBLISH
BEGIN:VEVENT
UID:S6SS-293/2025@contratero.es
DTSTAMP:20260419T183731Z
DTSTART:20260119T235959
DTEND:20260120T005959
SUMMARY:Cierre: Suministro de contenidos e-learning de autoformaci
DESCRIPTION:Suministro de contenidos e-learning de autoformación para el departamento de Formación de la Diputación Provincial de Alicante.\\n\\nOrganismo: Presidencia de la Diputación Provincial de Alicante\\n\\nVer en Contratero: https://contratero.es/contracts/S6SS-293/2025
URL:https://contratero.es/contracts/S6SS-293/2025
STATUS:CONFIRMED
BEGIN:VALARM
TRIGGER:-P1D
ACTION:DISPLAY
DESCRIPTION:Recordatorio: Suministro de contenidos e-lea
END:VALARM
END:VEVENT
END:VCALENDAR