BEGIN:VCALENDAR
VERSION:2.0
PRODID:-//Contratero//ES
CALSCALE:GREGORIAN
METHOD:PUBLISH
BEGIN:VEVENT
UID:SAG/CT/3119/2024@contratero.es
DTSTAMP:20260424T074510Z
DTSTART:20250107T235959
DTEND:20250108T005959
SUMMARY:Cierre: PSTD - Actuaciones de transición digital (actuació
DESCRIPTION:PSTD - Actuaciones de transición digital (actuación 9\, actuación 10\, actuación 11\, actuación 12) y competitividad (actuación 13\, actuación 15 y actuación 16) del Plan de sostenibilidad turística en de...\\n\\nOrganismo: Junta de Gobierno Local del Ayuntamiento de Nuevo Baztán\\n\\nVer en Contratero: https://contratero.es/contracts/SAG/CT/3119/2024
URL:https://contratero.es/contracts/SAG/CT/3119/2024
STATUS:CONFIRMED
BEGIN:VALARM
TRIGGER:-P1D
ACTION:DISPLAY
DESCRIPTION:Recordatorio: PSTD - Actuaciones de transici
END:VALARM
END:VEVENT
END:VCALENDAR