BEGIN:VCALENDAR
VERSION:2.0
PRODID:-//Contratero//ES
CALSCALE:GREGORIAN
METHOD:PUBLISH
BEGIN:VEVENT
UID:SAG2022-02@contratero.es
DTSTAMP:20260422T200710Z
DTSTART:20220702T235959
DTEND:20220703T005959
SUMMARY:Cierre: Servicio gestionado de mantenimiento y soporte de 
DESCRIPTION:Servicio gestionado de mantenimiento y soporte de infraestructuras TIC de Societat anónima de Gestió Sagunt Mitja propi municipal S.A.\\n\\nOrganismo: Dirección General Societat Anonima de Gestió Sagunt Mitja Propi Municipal S.A.\\n\\nVer en Contratero: https://contratero.es/contracts/SAG2022-02
URL:https://contratero.es/contracts/SAG2022-02
STATUS:CONFIRMED
BEGIN:VALARM
TRIGGER:-P1D
ACTION:DISPLAY
DESCRIPTION:Recordatorio: Servicio gestionado de manteni
END:VALARM
END:VEVENT
END:VCALENDAR