BEGIN:VCALENDAR
VERSION:2.0
PRODID:-//Contratero//ES
CALSCALE:GREGORIAN
METHOD:PUBLISH
BEGIN:VEVENT
UID:SAN_SGT_2023_23@contratero.es
DTSTAMP:20260425T192117Z
DTSTART:20231123T235959
DTEND:20231124T005959
SUMMARY:Cierre: Servicio de una Oficina Técnica para la gestión de
DESCRIPTION:Servicio de una Oficina Técnica para la gestión de los proyectos de Atención Primaria para el Gobierno de Aragón\\n\\nOrganismo: Departamento de Sanidad\\n\\nVer en Contratero: https://contratero.es/contracts/SAN_SGT_2023_23
URL:https://contratero.es/contracts/SAN_SGT_2023_23
STATUS:CONFIRMED
BEGIN:VALARM
TRIGGER:-P1D
ACTION:DISPLAY
DESCRIPTION:Recordatorio: Servicio de una Oficina Técnic
END:VALARM
END:VEVENT
END:VCALENDAR