BEGIN:VCALENDAR
VERSION:2.0
PRODID:-//Contratero//ES
CALSCALE:GREGORIAN
METHOD:PUBLISH
BEGIN:VEVENT
UID:SAS_BAR_2025_PNSP_48@contratero.es
DTSTAMP:20260421T130215Z
DTSTART:20260206T235959
DTEND:20260207T005959
SUMMARY:Cierre: Servicio de mantenimiento y actualización del sist
DESCRIPTION:Servicio de mantenimiento y actualización del sistema de información clínica Centricity High Acuity Critical Care (CHA CC) para la Unidad de Cuidados Intensivos del Hospital de Barbastro\\n\\nOrganismo: Gerencia Sector Sanitario de Barbastro\\n\\nVer en Contratero: https://contratero.es/contracts/SAS_BAR_2025_PNSP_48
URL:https://contratero.es/contracts/SAS_BAR_2025_PNSP_48
STATUS:CONFIRMED
BEGIN:VALARM
TRIGGER:-P1D
ACTION:DISPLAY
DESCRIPTION:Recordatorio: Servicio de mantenimiento y ac
END:VALARM
END:VEVENT
END:VCALENDAR