BEGIN:VCALENDAR
VERSION:2.0
PRODID:-//Contratero//ES
CALSCALE:GREGORIAN
METHOD:PUBLISH
BEGIN:VEVENT
UID:SAS_Z2_2026_PNSP_113@contratero.es
DTSTAMP:20260420T185500Z
DTSTART:20260209T235959
DTEND:20260210T005959
SUMMARY:Cierre: Adquisición del sistema de archivo automatizado de
DESCRIPTION:Adquisición del sistema de archivo automatizado de bloques de parafina para el Servicio de Anatomía Patológica del Hospital Universitario Miguel Servet de Zaragoza.\\n\\nOrganismo: Gerencia Sector Sanitario de Zaragoza 2\\n\\nVer en Contratero: https://contratero.es/contracts/SAS_Z2_2026_PNSP_113
URL:https://contratero.es/contracts/SAS_Z2_2026_PNSP_113
STATUS:CONFIRMED
BEGIN:VALARM
TRIGGER:-P1D
ACTION:DISPLAY
DESCRIPTION:Recordatorio: Adquisición del sistema de arc
END:VALARM
END:VEVENT
END:VCALENDAR