BEGIN:VCALENDAR
VERSION:2.0
PRODID:-//Contratero//ES
CALSCALE:GREGORIAN
METHOD:PUBLISH
BEGIN:VEVENT
UID:SCT2023000053@contratero.es
DTSTAMP:20260422T134150Z
DTSTART:20230721T235959
DTEND:20230722T005959
SUMMARY:Cierre: Servicio de gestión integral de los dominios y cer
DESCRIPTION:Servicio de gestión integral de los dominios y certificados registrados actualmente de titularidad del Ayuntamiento\, así como de aquellos que decida en adelante registrar.El adjudicatario\, debe hacers...\\n\\nOrganismo: Concejalía Delegada Organización\, Regimen Interno\, Modernización y Coordinación Administrativa\, Atención a la Ciudadanía\\n\\nVer en Contratero: https://contratero.es/contracts/SCT2023000053
URL:https://contratero.es/contracts/SCT2023000053
STATUS:CONFIRMED
BEGIN:VALARM
TRIGGER:-P1D
ACTION:DISPLAY
DESCRIPTION:Recordatorio: Servicio de gestión integral d
END:VALARM
END:VEVENT
END:VCALENDAR