BEGIN:VCALENDAR
VERSION:2.0
PRODID:-//Contratero//ES
CALSCALE:GREGORIAN
METHOD:PUBLISH
BEGIN:VEVENT
UID:SDA000/2026/INCLI/0009/CES@contratero.es
DTSTAMP:20260420T011918Z
DTSTART:20260202T235959
DTEND:20260203T005959
SUMMARY:Cierre: Servicios de consultoría\, formación y soporte de F
DESCRIPTION:Servicios de consultoría\, formación y soporte de Fundanet\\n\\nOrganismo: Fundación para la Investigación del Hospital Clínico de la Comunidad Valenciana\, Fundación Incliva\\n\\nVer en Contratero: https://contratero.es/contracts/SDA000/2026/INCLI/0009/CES
URL:https://contratero.es/contracts/SDA000/2026/INCLI/0009/CES
STATUS:CONFIRMED
BEGIN:VALARM
TRIGGER:-P1D
ACTION:DISPLAY
DESCRIPTION:Recordatorio: Servicios de consultoría\, form
END:VALARM
END:VEVENT
END:VCALENDAR