BEGIN:VCALENDAR
VERSION:2.0
PRODID:-//Contratero//ES
CALSCALE:GREGORIAN
METHOD:PUBLISH
BEGIN:VEVENT
UID:SE-023/21@contratero.es
DTSTAMP:20260424T154750Z
DTSTART:20210812T235959
DTEND:20210813T005959
SUMMARY:Cierre: Servicio de asistencia técnica para el análisis y 
DESCRIPTION:Servicio de asistencia técnica para el análisis y propuesta de acciones de mejora de los canales de atención ciudadana en la GMU\\n\\nOrganismo: Gerencia Municipal de Urbanismo Obras e Infraestructuras del Ayuntamiento de Málaga\\n\\nVer en Contratero: https://contratero.es/contracts/SE-023/21
URL:https://contratero.es/contracts/SE-023/21
STATUS:CONFIRMED
BEGIN:VALARM
TRIGGER:-P1D
ACTION:DISPLAY
DESCRIPTION:Recordatorio: Servicio de asistencia técnica
END:VALARM
END:VEVENT
END:VCALENDAR