BEGIN:VCALENDAR
VERSION:2.0
PRODID:-//Contratero//ES
CALSCALE:GREGORIAN
METHOD:PUBLISH
BEGIN:VEVENT
UID:SE-03-25@contratero.es
DTSTAMP:20260422T044758Z
DTSTART:20250226T235959
DTEND:20250227T005959
SUMMARY:Cierre: Mantenimiento y servicios gestionados de la aplica
DESCRIPTION:Mantenimiento y servicios gestionados de la aplicación Universitas XXI para la Universidad de Huelva.\\n\\nOrganismo: Rectorado de la Universidad de Huelva\\n\\nVer en Contratero: https://contratero.es/contracts/SE-03-25
URL:https://contratero.es/contracts/SE-03-25
STATUS:CONFIRMED
BEGIN:VALARM
TRIGGER:-P1D
ACTION:DISPLAY
DESCRIPTION:Recordatorio: Mantenimiento y servicios gest
END:VALARM
END:VEVENT
END:VCALENDAR