BEGIN:VCALENDAR
VERSION:2.0
PRODID:-//Contratero//ES
CALSCALE:GREGORIAN
METHOD:PUBLISH
BEGIN:VEVENT
UID:SE-043/20@contratero.es
DTSTAMP:20260425T210039Z
DTSTART:20201202T235959
DTEND:20201203T005959
SUMMARY:Cierre: Servicio de mantenimiento del programa SAGE Murano
DESCRIPTION:Servicio de mantenimiento del programa SAGE Murano Nómina\\n\\nOrganismo: Gerencia Municipal de Urbanismo Obras e Infraestructuras del Ayuntamiento de Málaga\\n\\nVer en Contratero: https://contratero.es/contracts/SE-043/20
URL:https://contratero.es/contracts/SE-043/20
STATUS:CONFIRMED
BEGIN:VALARM
TRIGGER:-P1D
ACTION:DISPLAY
DESCRIPTION:Recordatorio: Servicio de mantenimiento del 
END:VALARM
END:VEVENT
END:VCALENDAR