BEGIN:VCALENDAR
VERSION:2.0
PRODID:-//Contratero//ES
CALSCALE:GREGORIAN
METHOD:PUBLISH
BEGIN:VEVENT
UID:SE-06-21@contratero.es
DTSTAMP:20260425T124957Z
DTSTART:20210219T235959
DTEND:20210220T005959
SUMMARY:Cierre: establecimiento de las condiciones técnicas mínima
DESCRIPTION:establecimiento de las condiciones técnicas mínimas\, que deben cumplir los trabajos y servicios necesarios para llevar a cabo la identificación\, revisión\, registro y documentación de los activos muebl...\\n\\nOrganismo: Dirección General de Relaciones con la Administración de Justicia\\n\\nVer en Contratero: https://contratero.es/contracts/SE-06-21
URL:https://contratero.es/contracts/SE-06-21
STATUS:CONFIRMED
BEGIN:VALARM
TRIGGER:-P1D
ACTION:DISPLAY
DESCRIPTION:Recordatorio: establecimiento de las condici
END:VALARM
END:VEVENT
END:VCALENDAR