BEGIN:VCALENDAR
VERSION:2.0
PRODID:-//Contratero//ES
CALSCALE:GREGORIAN
METHOD:PUBLISH
BEGIN:VEVENT
UID:SE-26/2025@contratero.es
DTSTAMP:20260419T154828Z
DTSTART:20251218T235959
DTEND:20251219T005959
SUMMARY:Cierre: Servicios de acceso a Internet así como el manteni
DESCRIPTION:Servicios de acceso a Internet así como el mantenimiento de las infraestructuras necesarias\, y el servicio de Tarjetas SIM Machine-To-Machine (M2m) del Ayuntamiento de Palma del Río (Córdoba)\\n\\nOrganismo: Alcaldia del Ayuntamiento de Palma del Río\\n\\nVer en Contratero: https://contratero.es/contracts/SE-26/2025
URL:https://contratero.es/contracts/SE-26/2025
STATUS:CONFIRMED
BEGIN:VALARM
TRIGGER:-P1D
ACTION:DISPLAY
DESCRIPTION:Recordatorio: Servicios de acceso a Internet
END:VALARM
END:VEVENT
END:VCALENDAR