BEGIN:VCALENDAR
VERSION:2.0
PRODID:-//Contratero//ES
CALSCALE:GREGORIAN
METHOD:PUBLISH
BEGIN:VEVENT
UID:SE.09/25@contratero.es
DTSTAMP:20260422T113331Z
DTSTART:20251006T235959
DTEND:20251007T005959
SUMMARY:Cierre: Servicio de instalación y mantenimiento remoto de 
DESCRIPTION:Servicio de instalación y mantenimiento remoto de software base\, y mantenimiento de las Aplicaciones Corporativas de Gestión Universitarias en la Universidad Pablo de Olavide. (2025/2026)\\n\\nOrganismo: Rectorado de la Universidad Pablo de Olavide\\n\\nVer en Contratero: https://contratero.es/contracts/SE.09/25
URL:https://contratero.es/contracts/SE.09/25
STATUS:CONFIRMED
BEGIN:VALARM
TRIGGER:-P1D
ACTION:DISPLAY
DESCRIPTION:Recordatorio: Servicio de instalación y mant
END:VALARM
END:VEVENT
END:VCALENDAR