BEGIN:VCALENDAR
VERSION:2.0
PRODID:-//Contratero//ES
CALSCALE:GREGORIAN
METHOD:PUBLISH
BEGIN:VEVENT
UID:SE.13/21@contratero.es
DTSTAMP:20260422T075121Z
DTSTART:20210806T235959
DTEND:20210807T005959
SUMMARY:Cierre: Contrato de mantenimiento del sistema de gestión d
DESCRIPTION:Contrato de mantenimiento del sistema de gestión de colas y cita previa de la Universidad Pablo de Olavide\\n\\nOrganismo: Rectorado de la Universidad Pablo de Olavide\\n\\nVer en Contratero: https://contratero.es/contracts/SE.13/21
URL:https://contratero.es/contracts/SE.13/21
STATUS:CONFIRMED
BEGIN:VALARM
TRIGGER:-P1D
ACTION:DISPLAY
DESCRIPTION:Recordatorio: Contrato de mantenimiento del 
END:VALARM
END:VEVENT
END:VCALENDAR