BEGIN:VCALENDAR
VERSION:2.0
PRODID:-//Contratero//ES
CALSCALE:GREGORIAN
METHOD:PUBLISH
BEGIN:VEVENT
UID:SE.15/2025SARA@contratero.es
DTSTAMP:20260421T185050Z
DTSTART:20250915T235959
DTEND:20250916T005959
SUMMARY:Cierre: Mantenimiento y Servicio Gestionado de UNIVERSITAS
DESCRIPTION:Mantenimiento y Servicio Gestionado de UNIVERSITAS XXI para la Universidad de Málaga\\n\\nOrganismo: Rectorado de la Universidad de Málaga\\n\\nVer en Contratero: https://contratero.es/contracts/SE.15/2025SARA
URL:https://contratero.es/contracts/SE.15/2025SARA
STATUS:CONFIRMED
BEGIN:VALARM
TRIGGER:-P1D
ACTION:DISPLAY
DESCRIPTION:Recordatorio: Mantenimiento y Servicio Gesti
END:VALARM
END:VEVENT
END:VCALENDAR