BEGIN:VCALENDAR
VERSION:2.0
PRODID:-//Contratero//ES
CALSCALE:GREGORIAN
METHOD:PUBLISH
BEGIN:VEVENT
UID:SE/15/21@contratero.es
DTSTAMP:20260425T141454Z
DTSTART:20210303T235959
DTEND:20210304T005959
SUMMARY:Cierre: Contratación de los servicios de acceso a [y derec
DESCRIPTION:Contratación de los servicios de acceso a [y derecho de uso de] la licencia institucional Qualtrics con número ilimitado de usuarios\, a prestar en modo de Software as a Service (SaaS).\\n\\nOrganismo: Rectorado de la Universidad Jaume I\\n\\nVer en Contratero: https://contratero.es/contracts/SE/15/21
URL:https://contratero.es/contracts/SE/15/21
STATUS:CONFIRMED
BEGIN:VALARM
TRIGGER:-P1D
ACTION:DISPLAY
DESCRIPTION:Recordatorio: Contratación de los servicios 
END:VALARM
END:VEVENT
END:VCALENDAR