BEGIN:VCALENDAR
VERSION:2.0
PRODID:-//Contratero//ES
CALSCALE:GREGORIAN
METHOD:PUBLISH
BEGIN:VEVENT
UID:SE/33/21@contratero.es
DTSTAMP:20260423T032438Z
DTSTART:20210511T235959
DTEND:20210512T005959
SUMMARY:Cierre: Mantenimiento de los servicios de la plataforma de
DESCRIPTION:Mantenimiento de los servicios de la plataforma de gestión de archivo Alejandría y de la plataforma de venta de entradas Escena Online para el Paraninfo de la Universitat Jaume I\\n\\nOrganismo: Rectorado de la Universidad Jaume I\\n\\nVer en Contratero: https://contratero.es/contracts/SE/33/21
URL:https://contratero.es/contracts/SE/33/21
STATUS:CONFIRMED
BEGIN:VALARM
TRIGGER:-P1D
ACTION:DISPLAY
DESCRIPTION:Recordatorio: Mantenimiento de los servicios
END:VALARM
END:VEVENT
END:VCALENDAR