BEGIN:VCALENDAR
VERSION:2.0
PRODID:-//Contratero//ES
CALSCALE:GREGORIAN
METHOD:PUBLISH
BEGIN:VEVENT
UID:SE/37/20@contratero.es
DTSTAMP:20260425T191209Z
DTSTART:20201113T235959
DTEND:20201114T005959
SUMMARY:Cierre: Externalización de parte de la infraestructura/ pl
DESCRIPTION:Externalización de parte de la infraestructura/ plataforma TIC de la Universitat Jaume I a la nube pública.\\n\\nOrganismo: Rectorado de la Universidad Jaume I\\n\\nVer en Contratero: https://contratero.es/contracts/SE/37/20
URL:https://contratero.es/contracts/SE/37/20
STATUS:CONFIRMED
BEGIN:VALARM
TRIGGER:-P1D
ACTION:DISPLAY
DESCRIPTION:Recordatorio: Externalización de parte de la
END:VALARM
END:VEVENT
END:VCALENDAR