BEGIN:VCALENDAR
VERSION:2.0
PRODID:-//Contratero//ES
CALSCALE:GREGORIAN
METHOD:PUBLISH
BEGIN:VEVENT
UID:SE/6/25@contratero.es
DTSTAMP:20260423T231138Z
DTSTART:20250331T235959
DTEND:20250401T005959
SUMMARY:Cierre: Servicios de mantenimiento\, soporte y nuevos desar
DESCRIPTION:Servicios de mantenimiento\, soporte y nuevos desarrollos del Repositorio de la Universitat Jaume I (software Dspace)\\n\\nOrganismo: Rectorado de la Universidad Jaume I\\n\\nVer en Contratero: https://contratero.es/contracts/SE/6/25
URL:https://contratero.es/contracts/SE/6/25
STATUS:CONFIRMED
BEGIN:VALARM
TRIGGER:-P1D
ACTION:DISPLAY
DESCRIPTION:Recordatorio: Servicios de mantenimiento\, so
END:VALARM
END:VEVENT
END:VCALENDAR