BEGIN:VCALENDAR
VERSION:2.0
PRODID:-//Contratero//ES
CALSCALE:GREGORIAN
METHOD:PUBLISH
BEGIN:VEVENT
UID:SE0021/25@contratero.es
DTSTAMP:20260424T002632Z
DTSTART:20251119T235959
DTEND:20251120T005959
SUMMARY:Cierre: (T/LIC) Servicio de mantenimiento y soporte de la 
DESCRIPTION:(T/LIC) Servicio de mantenimiento y soporte de la aplicación informática de gestión del servicio de Transportes del Cabildo de Fuerteventura\\n\\nOrganismo: Presidencia del Cabildo Insular de Fuerteventura\\n\\nVer en Contratero: https://contratero.es/contracts/SE0021/25
URL:https://contratero.es/contracts/SE0021/25
STATUS:CONFIRMED
BEGIN:VALARM
TRIGGER:-P1D
ACTION:DISPLAY
DESCRIPTION:Recordatorio: (T/LIC) Servicio de mantenimie
END:VALARM
END:VEVENT
END:VCALENDAR