BEGIN:VCALENDAR
VERSION:2.0
PRODID:-//Contratero//ES
CALSCALE:GREGORIAN
METHOD:PUBLISH
BEGIN:VEVENT
UID:SE0142023@contratero.es
DTSTAMP:20260423T050710Z
DTSTART:20230922T235959
DTEND:20230923T005959
SUMMARY:Cierre: Contratación de servicio para la implantación y ma
DESCRIPTION:Contratación de servicio para la implantación y mantenimiento del componente de Contratación de UNIVERSITAS XXI-ECONÓMICO en la Universidad de Alicante\\n\\nOrganismo: Rectorado de la Universidad de Alicante\\n\\nVer en Contratero: https://contratero.es/contracts/SE0142023
URL:https://contratero.es/contracts/SE0142023
STATUS:CONFIRMED
BEGIN:VALARM
TRIGGER:-P1D
ACTION:DISPLAY
DESCRIPTION:Recordatorio: Contratación de servicio para 
END:VALARM
END:VEVENT
END:VCALENDAR