BEGIN:VCALENDAR
VERSION:2.0
PRODID:-//Contratero//ES
CALSCALE:GREGORIAN
METHOD:PUBLISH
BEGIN:VEVENT
UID:SE13825004055@contratero.es
DTSTAMP:20260425T133526Z
DTSTART:20251206T235959
DTEND:20251207T005959
SUMMARY:Cierre: Servicios gestionados de soporte tecnológico sobre
DESCRIPTION:Servicios gestionados de soporte tecnológico sobre la plataforma universitas xxi de la universidad\\n\\nOrganismo: Gerencia de la Universidad de Castilla-La Mancha\\n\\nVer en Contratero: https://contratero.es/contracts/SE13825004055
URL:https://contratero.es/contracts/SE13825004055
STATUS:CONFIRMED
BEGIN:VALARM
TRIGGER:-P1D
ACTION:DISPLAY
DESCRIPTION:Recordatorio: Servicios gestionados de sopor
END:VALARM
END:VEVENT
END:VCALENDAR