BEGIN:VCALENDAR
VERSION:2.0
PRODID:-//Contratero//ES
CALSCALE:GREGORIAN
METHOD:PUBLISH
BEGIN:VEVENT
UID:SE2025/46@contratero.es
DTSTAMP:20260426T004136Z
DTSTART:20251022T235959
DTEND:20251023T005959
SUMMARY:Cierre: Suministro e instalación y servicio de sistema de 
DESCRIPTION:Suministro e instalación y servicio de sistema de gestión informatizada para supervisión y control gestión personal del Servicio de Extinción de Incendios\, Salvamento y Protección Civil.\\n\\nOrganismo: Junta de Gobierno Local del Ayuntamiento de Cartagena\\n\\nVer en Contratero: https://contratero.es/contracts/SE2025/46
URL:https://contratero.es/contracts/SE2025/46
STATUS:CONFIRMED
BEGIN:VALARM
TRIGGER:-P1D
ACTION:DISPLAY
DESCRIPTION:Recordatorio: Suministro e instalación y ser
END:VALARM
END:VEVENT
END:VCALENDAR