BEGIN:VCALENDAR
VERSION:2.0
PRODID:-//Contratero//ES
CALSCALE:GREGORIAN
METHOD:PUBLISH
BEGIN:VEVENT
UID:SE22324/2022@contratero.es
DTSTAMP:20260420T114005Z
DTSTART:20250402T235959
DTEND:20250403T005959
SUMMARY:Cierre: servicio de integración de mensajería via radio (r
DESCRIPTION:servicio de integración de mensajería via radio (red tetra rescan)\\n\\nOrganismo: Presidencia del Cabildo de Fuerteventura\\n\\nVer en Contratero: https://contratero.es/contracts/SE22324/2022
URL:https://contratero.es/contracts/SE22324/2022
STATUS:CONFIRMED
BEGIN:VALARM
TRIGGER:-P1D
ACTION:DISPLAY
DESCRIPTION:Recordatorio: servicio de integración de men
END:VALARM
END:VEVENT
END:VCALENDAR