BEGIN:VCALENDAR
VERSION:2.0
PRODID:-//Contratero//ES
CALSCALE:GREGORIAN
METHOD:PUBLISH
BEGIN:VEVENT
UID:SE230001@contratero.es
DTSTAMP:20260423T000614Z
DTSTART:20231016T235959
DTEND:20231017T005959
SUMMARY:Cierre: Contratación de los servicios necesarios para la a
DESCRIPTION:Contratación de los servicios necesarios para la adquisición\, personalización y mantenimiento de una plataforma software de integración de sistemas de seguridad electrónica y gestión de la información...\\n\\nOrganismo: Consejo de Administración-Comité de Inversiones de la Sociedad Estatal Correos y Telégrafos S.A\\n\\nVer en Contratero: https://contratero.es/contracts/SE230001
URL:https://contratero.es/contracts/SE230001
STATUS:CONFIRMED
BEGIN:VALARM
TRIGGER:-P1D
ACTION:DISPLAY
DESCRIPTION:Recordatorio: Contratación de los servicios 
END:VALARM
END:VEVENT
END:VCALENDAR