BEGIN:VCALENDAR
VERSION:2.0
PRODID:-//Contratero//ES
CALSCALE:GREGORIAN
METHOD:PUBLISH
BEGIN:VEVENT
UID:SE31/22@contratero.es
DTSTAMP:20260422T194226Z
DTSTART:20220804T235959
DTEND:20220805T005959
SUMMARY:Cierre: Servicios de mantenimiento de la licencia Editran 
DESCRIPTION:Servicios de mantenimiento de la licencia Editran del Ayuntamiento de Torre Pacheco.\\n\\nOrganismo: Concejalía de Personal y Contratación del Ayuntamiento de Torre Pacheco\\n\\nVer en Contratero: https://contratero.es/contracts/SE31/22
URL:https://contratero.es/contracts/SE31/22
STATUS:CONFIRMED
BEGIN:VALARM
TRIGGER:-P1D
ACTION:DISPLAY
DESCRIPTION:Recordatorio: Servicios de mantenimiento de 
END:VALARM
END:VEVENT
END:VCALENDAR