BEGIN:VCALENDAR
VERSION:2.0
PRODID:-//Contratero//ES
CALSCALE:GREGORIAN
METHOD:PUBLISH
BEGIN:VEVENT
UID:SECR/CONT/31/2023@contratero.es
DTSTAMP:20260421T080924Z
DTSTART:20231229T235959
DTEND:20231230T005959
SUMMARY:Cierre: Programa de gestión para la agencia de colocación 
DESCRIPTION:Programa de gestión para la agencia de colocación municipal.\\n\\nOrganismo: Alcaldía del Ayuntamiento de Humanes de Madrid\\n\\nVer en Contratero: https://contratero.es/contracts/SECR/CONT/31/2023
URL:https://contratero.es/contracts/SECR/CONT/31/2023
STATUS:CONFIRMED
BEGIN:VALARM
TRIGGER:-P1D
ACTION:DISPLAY
DESCRIPTION:Recordatorio: Programa de gestión para la ag
END:VALARM
END:VEVENT
END:VCALENDAR