BEGIN:VCALENDAR
VERSION:2.0
PRODID:-//Contratero//ES
CALSCALE:GREGORIAN
METHOD:PUBLISH
BEGIN:VEVENT
UID:SER-02-2022-TF@contratero.es
DTSTAMP:20260422T025853Z
DTSTART:20220602T235959
DTEND:20220603T005959
SUMMARY:Cierre: Servicio integral de mantenimiento del Sistema de 
DESCRIPTION:Servicio integral de mantenimiento del Sistema de Información del Servicio Público de Empleo de Canarias (SISPECAN) y mantenimiento de la infraestructura técnica del Servicio Canario de Empleo\\n\\nOrganismo: Servicio Canario de Empleo\\n\\nVer en Contratero: https://contratero.es/contracts/SER-02-2022-TF
URL:https://contratero.es/contracts/SER-02-2022-TF
STATUS:CONFIRMED
BEGIN:VALARM
TRIGGER:-P1D
ACTION:DISPLAY
DESCRIPTION:Recordatorio: Servicio integral de mantenimi
END:VALARM
END:VEVENT
END:VCALENDAR