BEGIN:VCALENDAR
VERSION:2.0
PRODID:-//Contratero//ES
CALSCALE:GREGORIAN
METHOD:PUBLISH
BEGIN:VEVENT
UID:SER-20-073-SIST@contratero.es
DTSTAMP:20260423T114753Z
DTSTART:20200520T235959
DTEND:20200521T005959
SUMMARY:Cierre: Certificado de sello de empresa para dotar de gara
DESCRIPTION:Certificado de sello de empresa para dotar de garantía de autenticidad a los emails enviados desde atencionalcliente@umivale.es\\n\\nOrganismo: Gerencia UMIVALE Mutua Colaboradora con la Seguridad Social Nº 15\\n\\nVer en Contratero: https://contratero.es/contracts/SER-20-073-SIST
URL:https://contratero.es/contracts/SER-20-073-SIST
STATUS:CONFIRMED
BEGIN:VALARM
TRIGGER:-P1D
ACTION:DISPLAY
DESCRIPTION:Recordatorio: Certificado de sello de empres
END:VALARM
END:VEVENT
END:VCALENDAR