BEGIN:VCALENDAR
VERSION:2.0
PRODID:-//Contratero//ES
CALSCALE:GREGORIAN
METHOD:PUBLISH
BEGIN:VEVENT
UID:SER-21-0416-SIST@contratero.es
DTSTAMP:20260422T225427Z
DTSTART:20211217T235959
DTEND:20211218T005959
SUMMARY:Cierre: Renovación del mantenimiento y soporte de la plata
DESCRIPTION:Renovación del mantenimiento y soporte de la plataforma eMas de S2 Group: monitorización de sistemas servidores del CPD de umivale.\\n\\nOrganismo: Gerencia UMIVALE Mutua Colaboradora con la Seguridad Social Nº 15\\n\\nVer en Contratero: https://contratero.es/contracts/SER-21-0416-SIST
URL:https://contratero.es/contracts/SER-21-0416-SIST
STATUS:CONFIRMED
BEGIN:VALARM
TRIGGER:-P1D
ACTION:DISPLAY
DESCRIPTION:Recordatorio: Renovación del mantenimiento y
END:VALARM
END:VEVENT
END:VCALENDAR