BEGIN:VCALENDAR
VERSION:2.0
PRODID:-//Contratero//ES
CALSCALE:GREGORIAN
METHOD:PUBLISH
BEGIN:VEVENT
UID:SER-21-0418-MIC@contratero.es
DTSTAMP:20260422T225428Z
DTSTART:20211223T235959
DTEND:20211224T005959
SUMMARY:Cierre: Servicio HelpDesk para los técnicos de umivale
DESCRIPTION:Servicio HelpDesk para los técnicos de umivale\\n\\nOrganismo: Gerencia umivale Activa\, Mutua Colaboradora con la Seguridad Social número 3\\n\\nVer en Contratero: https://contratero.es/contracts/SER-21-0418-MIC
URL:https://contratero.es/contracts/SER-21-0418-MIC
STATUS:CONFIRMED
BEGIN:VALARM
TRIGGER:-P1D
ACTION:DISPLAY
DESCRIPTION:Recordatorio: Servicio HelpDesk para los téc
END:VALARM
END:VEVENT
END:VCALENDAR