BEGIN:VCALENDAR
VERSION:2.0
PRODID:-//Contratero//ES
CALSCALE:GREGORIAN
METHOD:PUBLISH
BEGIN:VEVENT
UID:SER-21-0431-SIST@contratero.es
DTSTAMP:20260422T225427Z
DTSTART:20211222T235959
DTEND:20211223T005959
SUMMARY:Cierre: Servicio de mantenimiento de la plataforma de gest
DESCRIPTION:Servicio de mantenimiento de la plataforma de gestión de claves centralizadas\\n\\nOrganismo: Gerencia UMIVALE Mutua Colaboradora con la Seguridad Social Nº 15\\n\\nVer en Contratero: https://contratero.es/contracts/SER-21-0431-SIST
URL:https://contratero.es/contracts/SER-21-0431-SIST
STATUS:CONFIRMED
BEGIN:VALARM
TRIGGER:-P1D
ACTION:DISPLAY
DESCRIPTION:Recordatorio: Servicio de mantenimiento de l
END:VALARM
END:VEVENT
END:VCALENDAR