BEGIN:VCALENDAR
VERSION:2.0
PRODID:-//Contratero//ES
CALSCALE:GREGORIAN
METHOD:PUBLISH
BEGIN:VEVENT
UID:SER-22-0242-SIST@contratero.es
DTSTAMP:20260424T031341Z
DTSTART:20220524T235959
DTEND:20220525T005959
SUMMARY:Cierre: Mantenimiento del Agente SC para la interconexión 
DESCRIPTION:Mantenimiento del Agente SC para la interconexión con PLCSP (Plataforma de Contratación del Estado) y TGSS-FACe (Punto General de Entrada de Facturas Electrónicas de la Administración General del Esta...\\n\\nOrganismo: Gerencia umivale Activa\, Mutua Colaboradora con la Seguridad Social número 3\\n\\nVer en Contratero: https://contratero.es/contracts/SER-22-0242-SIST
URL:https://contratero.es/contracts/SER-22-0242-SIST
STATUS:CONFIRMED
BEGIN:VALARM
TRIGGER:-P1D
ACTION:DISPLAY
DESCRIPTION:Recordatorio: Mantenimiento del Agente SC pa
END:VALARM
END:VEVENT
END:VCALENDAR