BEGIN:VCALENDAR
VERSION:2.0
PRODID:-//Contratero//ES
CALSCALE:GREGORIAN
METHOD:PUBLISH
BEGIN:VEVENT
UID:SER-22-0382-SIST@contratero.es
DTSTAMP:20260423T223252Z
DTSTART:20220803T235959
DTEND:20220804T005959
SUMMARY:Cierre: Contratación de tareas de consultoría\, soporte y m
DESCRIPTION:Contratación de tareas de consultoría\, soporte y mantenimiento del programa Archer de RSA\\n\\nOrganismo: Gerencia umivale Activa\, Mutua Colaboradora con la Seguridad Social número 3\\n\\nVer en Contratero: https://contratero.es/contracts/SER-22-0382-SIST
URL:https://contratero.es/contracts/SER-22-0382-SIST
STATUS:CONFIRMED
BEGIN:VALARM
TRIGGER:-P1D
ACTION:DISPLAY
DESCRIPTION:Recordatorio: Contratación de tareas de cons
END:VALARM
END:VEVENT
END:VCALENDAR