BEGIN:VCALENDAR
VERSION:2.0
PRODID:-//Contratero//ES
CALSCALE:GREGORIAN
METHOD:PUBLISH
BEGIN:VEVENT
UID:SER-22-0650-MIC@contratero.es
DTSTAMP:20260422T161812Z
DTSTART:20221220T235959
DTEND:20221221T005959
SUMMARY:Cierre: Servicio de mantenimiento de los aparatos de la Ra
DESCRIPTION:Servicio de mantenimiento de los aparatos de la Radiología Digital PACS & EIS que tiene en la actualidad en sus instalaciones de Quart de Poblet umivale Activa.\\n\\nOrganismo: Gerencia umivale Activa\, Mutua Colaboradora con la Seguridad Social número 3\\n\\nVer en Contratero: https://contratero.es/contracts/SER-22-0650-MIC
URL:https://contratero.es/contracts/SER-22-0650-MIC
STATUS:CONFIRMED
BEGIN:VALARM
TRIGGER:-P1D
ACTION:DISPLAY
DESCRIPTION:Recordatorio: Servicio de mantenimiento de l
END:VALARM
END:VEVENT
END:VCALENDAR