BEGIN:VCALENDAR
VERSION:2.0
PRODID:-//Contratero//ES
CALSCALE:GREGORIAN
METHOD:PUBLISH
BEGIN:VEVENT
UID:SER-24-0106-MIC@contratero.es
DTSTAMP:20260426T002219Z
DTSTART:20240326T235959
DTEND:20240327T005959
SUMMARY:Cierre: Soporte\, mantenimiento y actualización de licencia
DESCRIPTION:Soporte\, mantenimiento y actualización de licencias y productos tecnología Fortinet existente en el sistema informático de umivale Activa\\n\\nOrganismo: Gerencia umivale Activa\, Mutua Colaboradora con la Seguridad Social número 3\\n\\nVer en Contratero: https://contratero.es/contracts/SER-24-0106-MIC
URL:https://contratero.es/contracts/SER-24-0106-MIC
STATUS:CONFIRMED
BEGIN:VALARM
TRIGGER:-P1D
ACTION:DISPLAY
DESCRIPTION:Recordatorio: Soporte\, mantenimiento y actua
END:VALARM
END:VEVENT
END:VCALENDAR