BEGIN:VCALENDAR
VERSION:2.0
PRODID:-//Contratero//ES
CALSCALE:GREGORIAN
METHOD:PUBLISH
BEGIN:VEVENT
UID:SER-24-0560-MIC@contratero.es
DTSTAMP:20260422T025724Z
DTSTART:20241210T235959
DTEND:20241211T005959
SUMMARY:Cierre: Contratación de un servicio de soporte helpdesk pa
DESCRIPTION:Contratación de un servicio de soporte helpdesk para el personal técnico del área de microinformática de umivale Activa\\n\\nOrganismo: Gerencia umivale Activa\, Mutua Colaboradora con la Seguridad Social número 3\\n\\nVer en Contratero: https://contratero.es/contracts/SER-24-0560-MIC
URL:https://contratero.es/contracts/SER-24-0560-MIC
STATUS:CONFIRMED
BEGIN:VALARM
TRIGGER:-P1D
ACTION:DISPLAY
DESCRIPTION:Recordatorio: Contratación de un servicio de
END:VALARM
END:VEVENT
END:VCALENDAR