BEGIN:VCALENDAR
VERSION:2.0
PRODID:-//Contratero//ES
CALSCALE:GREGORIAN
METHOD:PUBLISH
BEGIN:VEVENT
UID:SER-25-0038-PA@contratero.es
DTSTAMP:20260423T011245Z
DTSTART:20250304T235959
DTEND:20250305T005959
SUMMARY:Cierre: Soporte para desarrollo de nuevas funcionalidades\,
DESCRIPTION:Soporte para desarrollo de nuevas funcionalidades\, mantenimiento evolutivo y correctivo de la aplicación del Call Center sobre la plataforma Synergy\\n\\nOrganismo: Gerencia umivale Activa\, Mutua Colaboradora con la Seguridad Social número 3\\n\\nVer en Contratero: https://contratero.es/contracts/SER-25-0038-PA
URL:https://contratero.es/contracts/SER-25-0038-PA
STATUS:CONFIRMED
BEGIN:VALARM
TRIGGER:-P1D
ACTION:DISPLAY
DESCRIPTION:Recordatorio: Soporte para desarrollo de nue
END:VALARM
END:VEVENT
END:VCALENDAR