BEGIN:VCALENDAR
VERSION:2.0
PRODID:-//Contratero//ES
CALSCALE:GREGORIAN
METHOD:PUBLISH
BEGIN:VEVENT
UID:SER/2025/0000109577@contratero.es
DTSTAMP:20260421T054209Z
DTSTART:20250912T235959
DTEND:20250913T005959
SUMMARY:Cierre: Ralización del desarrollo y evolución de sistemas 
DESCRIPTION:Ralización del desarrollo y evolución de sistemas de gestión estadística del Sistema Estadístico de Canarias\\n\\nOrganismo: Director del Instituto Canario de Estadística (ISTAC)\\n\\nVer en Contratero: https://contratero.es/contracts/SER/2025/0000109577
URL:https://contratero.es/contracts/SER/2025/0000109577
STATUS:CONFIRMED
BEGIN:VALARM
TRIGGER:-P1D
ACTION:DISPLAY
DESCRIPTION:Recordatorio: Ralización del desarrollo y ev
END:VALARM
END:VEVENT
END:VCALENDAR