BEGIN:VCALENDAR
VERSION:2.0
PRODID:-//Contratero//ES
CALSCALE:GREGORIAN
METHOD:PUBLISH
BEGIN:VEVENT
UID:SER/2025/0000109579@contratero.es
DTSTAMP:20260426T004936Z
DTSTART:20250827T235959
DTEND:20250828T005959
SUMMARY:Cierre: Servicio de mantenimiento de SITA. Sistema de Info
DESCRIPTION:Servicio de mantenimiento de SITA. Sistema de Información Transversal de Áreas de la Consejería de Transición Ecológica y Energía.\\n\\nOrganismo: Secretaría General Técnica de la Consejería de Transición Ecológica y Energía de Canarias\\n\\nVer en Contratero: https://contratero.es/contracts/SER/2025/0000109579
URL:https://contratero.es/contracts/SER/2025/0000109579
STATUS:CONFIRMED
BEGIN:VALARM
TRIGGER:-P1D
ACTION:DISPLAY
DESCRIPTION:Recordatorio: Servicio de mantenimiento de S
END:VALARM
END:VEVENT
END:VCALENDAR